BEGIN:VCALENDAR
VERSION:2.0
PRODID:-//Trek Global Executive Coaching - ECPv6.15.20//NONSGML v1.0//EN
CALSCALE:GREGORIAN
METHOD:PUBLISH
X-WR-CALNAME:Trek Global Executive Coaching
X-ORIGINAL-URL:https://trekcoaching.com
X-WR-CALDESC:Events for Trek Global Executive Coaching
REFRESH-INTERVAL;VALUE=DURATION:PT1H
X-Robots-Tag:noindex
X-PUBLISHED-TTL:PT1H
BEGIN:VTIMEZONE
TZID:UTC
BEGIN:STANDARD
TZOFFSETFROM:+0000
TZOFFSETTO:+0000
TZNAME:UTC
DTSTART:20250101T000000
END:STANDARD
END:VTIMEZONE
BEGIN:VTIMEZONE
TZID:America/New_York
BEGIN:DAYLIGHT
TZOFFSETFROM:-0500
TZOFFSETTO:-0400
TZNAME:EDT
DTSTART:20250309T070000
END:DAYLIGHT
BEGIN:STANDARD
TZOFFSETFROM:-0400
TZOFFSETTO:-0500
TZNAME:EST
DTSTART:20251102T060000
END:STANDARD
BEGIN:DAYLIGHT
TZOFFSETFROM:-0500
TZOFFSETTO:-0400
TZNAME:EDT
DTSTART:20260308T070000
END:DAYLIGHT
BEGIN:STANDARD
TZOFFSETFROM:-0400
TZOFFSETTO:-0500
TZNAME:EST
DTSTART:20261101T060000
END:STANDARD
BEGIN:DAYLIGHT
TZOFFSETFROM:-0500
TZOFFSETTO:-0400
TZNAME:EDT
DTSTART:20270314T070000
END:DAYLIGHT
BEGIN:STANDARD
TZOFFSETFROM:-0400
TZOFFSETTO:-0500
TZNAME:EST
DTSTART:20271107T060000
END:STANDARD
END:VTIMEZONE
BEGIN:VEVENT
DTSTART;TZID=UTC:20260207T090000
DTEND;TZID=UTC:20260407T103000
DTSTAMP:20260425T183555
CREATED:20260215T013313Z
LAST-MODIFIED:20260306T035014Z
UID:10000004-1770454800-1775557800@trekcoaching.com
SUMMARY:Guided Walk by Ohio River
DESCRIPTION:Join us for a guided walk overlooking the Ohio River.
URL:https://trekcoaching.com/event/guided-walk-ohio-river/
LOCATION:Bender Mountain\, 5999 Bender Road (Bender Mountain)\, (Delhi) Cincinnati\, Ohio
END:VEVENT
BEGIN:VEVENT
DTSTART;TZID=UTC:20260319T190000
DTEND;TZID=UTC:20260319T203000
DTSTAMP:20260425T183555
CREATED:20260215T012841Z
LAST-MODIFIED:20260306T034403Z
UID:10000003-1773946800-1773952200@trekcoaching.com
SUMMARY:Indoor Guided Forest Bathing Walk at Krohn Conservatory
DESCRIPTION:Join us for an indoor guided Forest Bathing Walk at Krohn Conservatory. Enjoy the serenity of nature and relax your mind as you slowly walk through the tropical foliage\, breathing in the scents of the flowers surrounding you\, and reawakening all five senses. Learn simple nature-based therapy techniques you can integrate into your daily life to relax your mind and restore your body.
URL:https://trekcoaching.com/event/indoor-guided-forest-bathing-walk-krohn-conservatory/
LOCATION:Krohn Conservatory\, 1501 Eden Park Drive\, Cincinnati\, Ohio
END:VEVENT
BEGIN:VEVENT
DTSTART;TZID=America/New_York:20260416T190000
DTEND;TZID=America/New_York:20260416T203000
DTSTAMP:20260425T183555
CREATED:20260410T011736Z
LAST-MODIFIED:20260414T025840Z
UID:10000007-1776366000-1776371400@trekcoaching.com
SUMMARY:Krohn Conservatory - Indoor Forest Bathing Walk
DESCRIPTION:Don’t miss this special opportunity to relax and reconnect with nature! \nJoin us for an indoor guided Forest Bathing Walk at Krohn Conservatory. Enjoy the serenity of nature and relax as you slowly walk through the tropical foliage\, breathing in the scents of the flowers surrounding you\, and reawakening your senses.  Learn simple\, nature-based therapy techniques you can integrate into your daily life to relax your mind and restore your body. \nThe accessible program includes a slow guided walk with a sequence of soothing\, nature-based readings\, moments of stillness and poetry led by Pam Cho. \nPlease see the Krohn Conservatory Website to register: Click Here \n 
URL:https://trekcoaching.com/event/krohn-conservatory/
LOCATION:Krohn Conservatory\, 1501 Eden Park Drive\, Cincinnati\, Ohio
END:VEVENT
BEGIN:VEVENT
DTSTART;TZID=UTC:20260424T070000
DTEND;TZID=UTC:20260424T083000
DTSTAMP:20260425T183555
CREATED:20260306T035110Z
LAST-MODIFIED:20260410T012607Z
UID:10000005-1777014000-1777019400@trekcoaching.com
SUMMARY:Sunrise Forest Bathing Walk at Valley View Nature Preserve
DESCRIPTION:Join us for a beautiful sunrise forest bathing walk on this historic nature preserve overlooking the Little Miami River.
URL:https://trekcoaching.com/event/guided-walk-in-the-valley-view-nature-preserve/
LOCATION:Valley View Preserve\, 5330 S. Milford Road\, Milford\, Ohio
END:VEVENT
BEGIN:VEVENT
DTSTART;TZID=America/New_York:20260429T183000
DTEND;TZID=America/New_York:20260429T193000
DTSTAMP:20260425T183555
CREATED:20260410T021458Z
LAST-MODIFIED:20260410T021513Z
UID:10000010-1777487400-1777491000@trekcoaching.com
SUMMARY:RRT / Roads\, Rivers & Trails - Forest Bathing Presentation
DESCRIPTION:Join Pam Lowe Cho\, founder of Trek Executive Coaching\, for a refreshing introduction to forest bathing—also known as Shinrin-Yoku\, an evidence-based practice that began in Japan. Forest bathing\, one of the world’s fastest growing wellness practices\, is a slow\, mindful way of using nature to reduce stress\, lower blood pressure and restore mental clarity. \nIn this 60-minute session\, Pam will guide you through what forest bathing is\, why it matters\, and how simply spending intentional time outdoors can positively impact your body and mind. She will also share how to design a mindfulness “sit spot” in your garden\, yard on your porch. \nPam is an ANFT-Certified Forest Therapy Guide\, trained in the United States\, with additional immersive learning experiences in Japan and South Korea. Drawing from both science and global practice\, she brings a grounded\, approachable perspective to helping people reconnect with nature to strengthen their overall wellbeing. \nShe has worked with organizations including Procter & Gamble\, Altafiber\, The Christ Hospital\, U.S. Bank\, the University of Cincinnati\, Paycor and Cincinnati Children’s Hospital Medical Center. \nYou’ll leave with simple\, practical tips you can use right away—whether you’re on a trail\, at a park\, or in your own backyard—to slow down\, engage your senses\, and experience the calming\, restorative benefits of nature.
URL:https://trekcoaching.com/event/rrt-roads-rivers-trails-forest-bathing-presentation/
LOCATION:Rivers Roads and Trails\, 118 Main Street\, Milford\, OH\, 45150\, United States
END:VEVENT
BEGIN:VEVENT
DTSTART;TZID=UTC:20260501T073000
DTEND;TZID=UTC:20260501T090000
DTSTAMP:20260425T183555
CREATED:20260215T011903Z
LAST-MODIFIED:20260414T022738Z
UID:10000001-1777620600-1777626000@trekcoaching.com
SUMMARY:Cincinnati Children’s Hospital Medical Center - Private Event
DESCRIPTION:This is a private event for staff at CCHMC
URL:https://trekcoaching.com/event/private-event-cincinnati-childrens-hospital/
LOCATION:Cincinnati Children’s Hospital Medical Center\, 10397 Springfield Pike\, Glenwood Gardens (Cincinnati)\, Ohio
END:VEVENT
BEGIN:VEVENT
DTSTART;TZID=America/New_York:20260502T130000
DTEND;TZID=America/New_York:20260502T143000
DTSTAMP:20260425T183555
CREATED:20260414T025438Z
LAST-MODIFIED:20260414T025438Z
UID:10000008-1777726800-1777732200@trekcoaching.com
SUMMARY:Pyramid Hill Sculpture Park - Forest Bathing Walk
DESCRIPTION:Join us for a program that’s part of the Wellness Series at Pyramid Hill Sculpture Park. \nForest Bathing is the Japanese practice of “Bathing in the Healing Elements of the Forest.”  This guided experience is an invitation to slow down and awaken the senses\, allowing you to quietly take in nature’s gifts.  Forest Bathing follows a standard sequence including slow\, attentive walking\, guided sensory experiences\, individual reflection\, closing with tea made with foraged ingredients.  Pam Cho\, ANFT-certified Forest Bathing guide is returning to the park again this year to guide our guests in another special experience. \n 
URL:https://trekcoaching.com/event/pyramid-hill-sculpture-park-forest-bathing-walk/
LOCATION:Pyramid Hill Sculpture Park – Forest Bathing Walk\, 1763 Hamilton Cleves Road\, Hamilton\, OH\, 45013\, United States
END:VEVENT
BEGIN:VEVENT
DTSTART;TZID=America/New_York:20260506T183000
DTEND;TZID=America/New_York:20260506T200000
DTSTAMP:20260425T183555
CREATED:20260410T020612Z
LAST-MODIFIED:20260410T020612Z
UID:10000009-1778092200-1778097600@trekcoaching.com
SUMMARY:Gorman Heritage Farm - Forest Bathing Walk
DESCRIPTION:Join us for a relaxing evening walking the beautiful\, historical grounds of Gorman Heritage Farm with Pam Cho\, ANFT-Certified Forest Bathing Guide (Association of Nature & Forest Therapy). \nWe’ll spend 90 minutes on a slow walk on easy trails enjoying meditations\, nature poetry\, time for reflection and a gratitude tea. \nThis program sold out last year\, so don’t wait to order your tickets! \n 
URL:https://trekcoaching.com/event/gorman-heritage-farm-forest-bathing-walk/
LOCATION:Gorman Heritage Farm\, 10052 Reading Road\, Cincinnati\, 45241\, United States
END:VEVENT
BEGIN:VEVENT
DTSTART;TZID=America/New_York:20260512T190000
DTEND;TZID=America/New_York:20260512T203000
DTSTAMP:20260425T183555
CREATED:20260410T022403Z
LAST-MODIFIED:20260410T022605Z
UID:10000011-1778612400-1778617800@trekcoaching.com
SUMMARY:Sunset Forest Bathing Walk - Valley View Nature Preserve
DESCRIPTION:Close your day with Pam Lowe Cho\, an ANFT-certified forest therapy guide\, and step into the calm of the natural world—breathe deeply\, slow down\, and experience the restorative benefits of time spent in our natural world. Registration is required.
URL:https://trekcoaching.com/event/sunset-forest-bathing-walk-valley-view-nature-preserve/
LOCATION:Valley View Preserve\, 5330 S. Milford Road\, Milford\, Ohio
END:VEVENT
BEGIN:VEVENT
DTSTART;TZID=America/New_York:20260514T073000
DTEND;TZID=America/New_York:20260514T090000
DTSTAMP:20260425T183555
CREATED:20260414T025007Z
LAST-MODIFIED:20260414T122438Z
UID:10000012-1778743800-1778749200@trekcoaching.com
SUMMARY:Odessa Healing Center/Galia Collaborative - Forest Bathing Walk
DESCRIPTION:Spending time in nature does more than simply give us a break from our routines.  Research increasingly shows that natural environments help quiet mental chatter\, calm the brain’s threat response\, and allow the nervous system to settle into a more restorative state. \nOdessa Healing Center invites you to experience the gentle practice of forest bathing: a guided opportunity to slow down\, engage your senses\, and reconnect with the natural world.  During this special morning experience\, participants will enjoy: \nA brief introduction to the practice and benefits of forest bathing. \nA slow\, 90-minute guided walk through the forest. \nGentle meditation\, nature poetry\, and quiet time for reflection. \nA closing Gratitude Tea Ceremony \nA small takeaway gift to remember the experience. \nWhether you feel most at home outdoors or simply long for a little more stillness\, forest bathing offers a simple and powerful way to reconnect – with nature\, and with yourself. \nPlease visit the Odessa Healing Website to register:  OdessaHealingCenter.com \n 
URL:https://trekcoaching.com/event/odessa-healing-center-galia-collaborative-forest-bathing-walk/
LOCATION:Ault Park\, 5090 Observatory Circle\, Cincinnati\, OH\, 45208\, United States
ORGANIZER;CN="Galia Collaborative":MAILTO:tramsey@galiacollaborative.com
END:VEVENT
END:VCALENDAR